BEGIN:VCALENDAR
VERSION:2.0
PRODID:-//ddaysoftware.com//NONSGML DDay.iCal 1.0//EN
BEGIN:VTIMEZONE
TZID:W. Europe Standard Time
BEGIN:STANDARD
DTSTART:20251002T030000
RRULE:FREQ=YEARLY;BYDAY=-1SU;BYHOUR=3;BYMINUTE=0;BYMONTH=10
TZNAME:Mitteleuropäische Zeit
TZOFFSETFROM:+0200
TZOFFSETTO:+0100
END:STANDARD
BEGIN:DAYLIGHT
DTSTART:20250301T020000
RRULE:FREQ=YEARLY;BYDAY=-1SU;BYHOUR=2;BYMINUTE=0;BYMONTH=3
TZNAME:Mitteleuropäische Sommerzeit
TZOFFSETFROM:+0100
TZOFFSETTO:+0200
END:DAYLIGHT
END:VTIMEZONE
BEGIN:VEVENT
CATEGORIES:Aktion
DESCRIPTION:Der Fantasy-Buchclub für Erwachsene\n\nVeranstalter: Europabüch
 erei Passau\n\nhttps://europabuecherei.passau.de/veranstaltungen/fantasy-b
 uchclub-244/
DTEND:20260424T191500
DTSTAMP:20260424T090139Z
DTSTART:20260424T181500
LOCATION:Europabücherei Passau: Schießgrabengasse 2\, 94032 Passau
SEQUENCE:0
SUMMARY:Fantasy-Buchclub 
UID:15592
URL:https://europabuecherei.passau.de/veranstaltungen/fantasy-buchclub-244/
END:VEVENT
BEGIN:VEVENT
CATEGORIES:Kreative Schreibnächte
DESCRIPTION:Kreative Schreibnächte\n\nVeranstalter: Gesine Hirtler-Rieger\n
 \nhttps://europabuecherei.passau.de/veranstaltungen/kreative-schreib-28426
 /
DTEND:20260428T193000
DTSTAMP:20260424T090139Z
DTSTART:20260428T183000
LOCATION:Europabücherei Passau: Schießgrabengasse 2\, 94032 Passau
SEQUENCE:0
SUMMARY:Kreative Schreibnächte
UID:10675
URL:https://europabuecherei.passau.de/veranstaltungen/kreative-schreib-2842
 6/
END:VEVENT
BEGIN:VEVENT
CATEGORIES:Bilderbuchkino
DESCRIPTION:Bilderbuchkino für Kinder ab 4 Jahren.\n\nVeranstalter: Europab
 ücherei Passau\n\nhttps://europabuecherei.passau.de/veranstaltungen/kipro-
 29426-bbk/
DTEND:20260429T160000
DTSTAMP:20260424T090139Z
DTSTART:20260429T150000
LOCATION:Europabücherei Passau: Schießgrabengasse 2\, 94032 Passau
SEQUENCE:0
SUMMARY:Bilderbuchkino | Kinder 4-7 Jahre
UID:15393
URL:https://europabuecherei.passau.de/veranstaltungen/kipro-29426-bbk/
END:VEVENT
BEGIN:VEVENT
CATEGORIES:Bücherstunde
DESCRIPTION:Bücherstunde für Kinder ab 1 Jahr.\n\nVeranstalter: Europabüche
 rei Passau\n\nhttps://europabuecherei.passau.de/veranstaltungen/kipro-6526
 -bd1/
DTEND:20260506T111500
DTSTAMP:20260424T090139Z
DTSTART:20260506T101500
LOCATION:Europabücherei Passau: Schießgrabengasse 2\, 94032 Passau
SEQUENCE:0
SUMMARY:Babydrachen - Bücherspaß für Minis | Kinder 1-3 Jahre
UID:15375
URL:https://europabuecherei.passau.de/veranstaltungen/kipro-6526-bd1/
END:VEVENT
BEGIN:VEVENT
CATEGORIES:Bücherstunde
DESCRIPTION:Bücherstunde für Kinder ab 1 Jahr.\n\nVeranstalter: Europabüche
 rei Passau\n\nhttps://europabuecherei.passau.de/veranstaltungen/kipro-6526
 -bd2/
DTEND:20260506T160000
DTSTAMP:20260424T090139Z
DTSTART:20260506T150000
LOCATION:Europabücherei Passau: Schießgrabengasse 2\, 94032 Passau
SEQUENCE:0
SUMMARY:Babydrachen - Bücherspaß für Minis | Kinder 1-3 Jahre
UID:15377
URL:https://europabuecherei.passau.de/veranstaltungen/kipro-6526-bd2/
END:VEVENT
BEGIN:VEVENT
CATEGORIES:Aktion
DESCRIPTION:Comic-Fans aufgepasst!\n\nVeranstalter: Europabücherei Passau\n
 \nhttps://europabuecherei.passau.de/veranstaltungen/gratis-comic-tag-2026/
DTEND:20260509T110000
DTSTAMP:20260424T090139Z
DTSTART:20260509T100000
LOCATION:Europabücherei Passau: Schießgrabengasse 2\, 94032 Passau
SEQUENCE:0
SUMMARY:Gratis Comic Tag 2026 | Kinder | Jugendliche
UID:15635
URL:https://europabuecherei.passau.de/veranstaltungen/gratis-comic-tag-2026
 /
END:VEVENT
BEGIN:VEVENT
CATEGORIES:Kreative Schreibnächte
DESCRIPTION:Kreative Schreibnächte\n\nVeranstalter: Gesine Hirtler-Rieger\n
 \nhttps://europabuecherei.passau.de/veranstaltungen/kreative-schreib-12526
 /
DTEND:20260512T193000
DTSTAMP:20260424T090139Z
DTSTART:20260512T183000
LOCATION:Europabücherei Passau: Schießgrabengasse 2\, 94032 Passau
SEQUENCE:0
SUMMARY:Kreative Schreibnächte
UID:10676
URL:https://europabuecherei.passau.de/veranstaltungen/kreative-schreib-1252
 6/
END:VEVENT
BEGIN:VEVENT
CATEGORIES:Bilderbuchkino
DESCRIPTION:Bilderbuchkino für Kinder ab 4 Jahren.\n\nVeranstalter: Europab
 ücherei Passau\n\nhttps://europabuecherei.passau.de/veranstaltungen/kipro-
 13526-bbk/
DTEND:20260513T160000
DTSTAMP:20260424T090139Z
DTSTART:20260513T150000
LOCATION:Europabücherei Passau: Schießgrabengasse 2\, 94032 Passau
SEQUENCE:0
SUMMARY:Bilderbuchkino | Kinder 4-7 Jahre
UID:15394
URL:https://europabuecherei.passau.de/veranstaltungen/kipro-13526-bbk/
END:VEVENT
BEGIN:VEVENT
CATEGORIES:Lesung
DESCRIPTION:Medienzeit liebevoll begleiten\n\nVeranstalter: KEB Katholische
  Erwachsenenbildung in Stadt und Landkreis Passau e.V.\n\nhttps://europabu
 echerei.passau.de/veranstaltungen/buchvorstellung-medienzeit_165/
DTEND:20260516T110000
DTSTAMP:20260424T090139Z
DTSTART:20260516T100000
LOCATION:Europabücherei Passau: Schießgrabengasse 2\, 94032 Passau
SEQUENCE:0
SUMMARY:Buchvorstellung 
UID:15655
URL:https://europabuecherei.passau.de/veranstaltungen/buchvorstellung-medie
 nzeit_165/
END:VEVENT
BEGIN:VEVENT
CATEGORIES:Bücherstunde
DESCRIPTION:Bücherstunde für Kinder ab 1 Jahr.\n\nVeranstalter: Europabüche
 rei Passau\n\nhttps://europabuecherei.passau.de/veranstaltungen/kipro-2052
 6-bd1/
DTEND:20260520T111500
DTSTAMP:20260424T090139Z
DTSTART:20260520T101500
LOCATION:Europabücherei Passau: Schießgrabengasse 2\, 94032 Passau
SEQUENCE:0
SUMMARY:Babydrachen - Bücherspaß für Minis | Kinder 1-3 Jahre
UID:15378
URL:https://europabuecherei.passau.de/veranstaltungen/kipro-20526-bd1/
END:VEVENT
BEGIN:VEVENT
CATEGORIES:Bücherstunde
DESCRIPTION:ENTFÄLLT wegen Personalversammlung\n\nVeranstalter: Europabüche
 rei Passau\n\nhttps://europabuecherei.passau.de/veranstaltungen/kipro-2052
 6-bd2/
DTEND:20260520T160000
DTSTAMP:20260424T090139Z
DTSTART:20260520T150000
LOCATION:Europabücherei Passau: Schießgrabengasse 2\, 94032 Passau
SEQUENCE:0
SUMMARY:ENTFÄLLT! Babydrachen - Bücherspaß für Minis | Kinder 1-3 Jahre
UID:15379
URL:https://europabuecherei.passau.de/veranstaltungen/kipro-20526-bd2/
END:VEVENT
BEGIN:VEVENT
CATEGORIES:Ferienaktion
DESCRIPTION:Detektivrallye für Kinder ab 8 Jahren\n\nVeranstalter: Europabü
 cherei Passau\n\nhttps://europabuecherei.passau.de/veranstaltungen/pfingst
 ferienaktion265/
DTEND:20260526T110000
DTSTAMP:20260424T090139Z
DTSTART:20260526T100000
LOCATION:Europabücherei Passau: Schießgrabengasse 2\, 94032 Passau
SEQUENCE:0
SUMMARY:Pfingstferienaktion | Kinder | Jugendliche | Familien
UID:15669
URL:https://europabuecherei.passau.de/veranstaltungen/pfingstferienaktion26
 5/
END:VEVENT
BEGIN:VEVENT
CATEGORIES:Ferienaktion
DESCRIPTION:Detektivrallye für Kinder ab 8 Jahren\n\nVeranstalter: Europabü
 cherei Passau\n\nhttps://europabuecherei.passau.de/veranstaltungen/pfingst
 ferienaktion275/
DTEND:20260527T110000
DTSTAMP:20260424T090139Z
DTSTART:20260527T100000
LOCATION:Europabücherei Passau: Schießgrabengasse 2\, 94032 Passau
SEQUENCE:0
SUMMARY:Pfingstferienaktion | Kinder | Jugendliche | Familien
UID:15670
URL:https://europabuecherei.passau.de/veranstaltungen/pfingstferienaktion27
 5/
END:VEVENT
BEGIN:VEVENT
CATEGORIES:Aktion
DESCRIPTION:Der Fantasy-Buchclub für Erwachsene\n\nVeranstalter: Europabüch
 erei Passau\n\nhttps://europabuecherei.passau.de/veranstaltungen/fantasy-b
 uchclub-295/
DTEND:20260529T191500
DTSTAMP:20260424T090139Z
DTSTART:20260529T181500
LOCATION:Europabücherei Passau: Schießgrabengasse 2\, 94032 Passau
SEQUENCE:0
SUMMARY:Fantasy-Buchclub 
UID:15642
URL:https://europabuecherei.passau.de/veranstaltungen/fantasy-buchclub-295/
END:VEVENT
BEGIN:VEVENT
CATEGORIES:Kreative Schreibnächte
DESCRIPTION:Kreative Schreibnächte\n\nVeranstalter: Gesine Hirtler-Rieger\n
 \nhttps://europabuecherei.passau.de/veranstaltungen/kreative-schreib-9626/
DTEND:20260609T193000
DTSTAMP:20260424T090139Z
DTSTART:20260609T183000
LOCATION:Europabücherei Passau: Schießgrabengasse 2\, 94032 Passau
SEQUENCE:0
SUMMARY:Kreative Schreibnächte
UID:10677
URL:https://europabuecherei.passau.de/veranstaltungen/kreative-schreib-9626
 /
END:VEVENT
BEGIN:VEVENT
CATEGORIES:Aktion
DESCRIPTION:Der Fantasy-Buchclub für Erwachsene\n\nVeranstalter: Europabüch
 erei Passau\n\nhttps://europabuecherei.passau.de/veranstaltungen/fantasy-b
 uchclub-266/
DTEND:20260626T191500
DTSTAMP:20260424T090139Z
DTSTART:20260626T181500
LOCATION:Europabücherei Passau: Schießgrabengasse 2\, 94032 Passau
SEQUENCE:0
SUMMARY:Fantasy-Buchclub 
UID:15643
URL:https://europabuecherei.passau.de/veranstaltungen/fantasy-buchclub-266/
END:VEVENT
BEGIN:VEVENT
CATEGORIES:Aktion
DESCRIPTION:Der Fantasy-Buchclub für Erwachsene\n\nVeranstalter: Europabüch
 erei Passau\n\nhttps://europabuecherei.passau.de/veranstaltungen/fantasy-b
 uchclub-317/
DTEND:20260731T191500
DTSTAMP:20260424T090139Z
DTSTART:20260731T181500
LOCATION:Europabücherei Passau: Schießgrabengasse 2\, 94032 Passau
SEQUENCE:0
SUMMARY:Fantasy-Buchclub 
UID:15644
URL:https://europabuecherei.passau.de/veranstaltungen/fantasy-buchclub-317/
END:VEVENT
BEGIN:VEVENT
CATEGORIES:Aktion
DESCRIPTION:Der Fantasy-Buchclub für Erwachsene\n\nVeranstalter: Europabüch
 erei Passau\n\nhttps://europabuecherei.passau.de/veranstaltungen/fantasy-b
 uchclub-218/
DTEND:20260821T191500
DTSTAMP:20260424T090139Z
DTSTART:20260821T181500
LOCATION:Europabücherei Passau: Schießgrabengasse 2\, 94032 Passau
SEQUENCE:0
SUMMARY:Fantasy-Buchclub 
UID:15645
URL:https://europabuecherei.passau.de/veranstaltungen/fantasy-buchclub-218/
END:VEVENT
BEGIN:VEVENT
CATEGORIES:Aktion
DESCRIPTION:Der Fantasy-Buchclub für Erwachsene\n\nVeranstalter: Europabüch
 erei Passau\n\nhttps://europabuecherei.passau.de/veranstaltungen/fantasy-b
 uchclub-259/
DTEND:20260925T191500
DTSTAMP:20260424T090139Z
DTSTART:20260925T181500
LOCATION:Europabücherei Passau: Schießgrabengasse 2\, 94032 Passau
SEQUENCE:0
SUMMARY:Fantasy-Buchclub 
UID:15646
URL:https://europabuecherei.passau.de/veranstaltungen/fantasy-buchclub-259/
END:VEVENT
BEGIN:VEVENT
CATEGORIES:Aktion
DESCRIPTION:Der Fantasy-Buchclub für Erwachsene\n\nVeranstalter: Europabüch
 erei Passau\n\nhttps://europabuecherei.passau.de/veranstaltungen/fantasy-b
 uchclub-3010/
DTEND:20261030T191500
DTSTAMP:20260424T090139Z
DTSTART:20261030T181500
LOCATION:Europabücherei Passau: Schießgrabengasse 2\, 94032 Passau
SEQUENCE:0
SUMMARY:Fantasy-Buchclub 
UID:15647
URL:https://europabuecherei.passau.de/veranstaltungen/fantasy-buchclub-3010
 /
END:VEVENT
BEGIN:VEVENT
CATEGORIES:Aktion
DESCRIPTION:Der Fantasy-Buchclub für Erwachsene\n\nVeranstalter: Europabüch
 erei Passau\n\nhttps://europabuecherei.passau.de/veranstaltungen/fantasy-b
 uchclub-2711/
DTEND:20261127T191500
DTSTAMP:20260424T090139Z
DTSTART:20261127T181500
LOCATION:Europabücherei Passau: Schießgrabengasse 2\, 94032 Passau
SEQUENCE:0
SUMMARY:Fantasy-Buchclub 
UID:15648
URL:https://europabuecherei.passau.de/veranstaltungen/fantasy-buchclub-2711
 /
END:VEVENT
BEGIN:VEVENT
CATEGORIES:Aktion
DESCRIPTION:Der Fantasy-Buchclub für Erwachsene\n\nVeranstalter: Europabüch
 erei Passau\n\nhttps://europabuecherei.passau.de/veranstaltungen/fantasy-b
 uchclub-1812/
DTEND:20261218T191500
DTSTAMP:20260424T090139Z
DTSTART:20261218T181500
LOCATION:Europabücherei Passau: Schießgrabengasse 2\, 94032 Passau
SEQUENCE:0
SUMMARY:Fantasy-Buchclub 
UID:15649
URL:https://europabuecherei.passau.de/veranstaltungen/fantasy-buchclub-1812
 /
END:VEVENT
BEGIN:VEVENT
CATEGORIES:Aktion
DESCRIPTION:Der Fantasy-Buchclub für Erwachsene\n\nVeranstalter: Europabüch
 erei Passau\n\nhttps://europabuecherei.passau.de/veranstaltungen/fantasy-b
 uchclub-29127/
DTEND:20270129T191500
DTSTAMP:20260424T090139Z
DTSTART:20270129T181500
LOCATION:Europabücherei Passau: Schießgrabengasse 2\, 94032 Passau
SEQUENCE:0
SUMMARY:Fantasy-Buchclub 
UID:15650
URL:https://europabuecherei.passau.de/veranstaltungen/fantasy-buchclub-2912
 7/
END:VEVENT
BEGIN:VEVENT
CATEGORIES:Aktion
DESCRIPTION:Der Fantasy-Buchclub für Erwachsene\n\nVeranstalter: Europabüch
 erei Passau\n\nhttps://europabuecherei.passau.de/veranstaltungen/fantasy-b
 uchclub-26227/
DTEND:20270226T191500
DTSTAMP:20260424T090139Z
DTSTART:20270226T181500
LOCATION:Europabücherei Passau: Schießgrabengasse 2\, 94032 Passau
SEQUENCE:0
SUMMARY:Fantasy-Buchclub 
UID:15651
URL:https://europabuecherei.passau.de/veranstaltungen/fantasy-buchclub-2622
 7/
END:VEVENT
END:VCALENDAR
